BEGIN:VCALENDAR
VERSION:2.0
PRODID:-//Halterner TC - ECPv6.15.20//NONSGML v1.0//EN
CALSCALE:GREGORIAN
METHOD:PUBLISH
X-WR-CALNAME:Halterner TC
X-ORIGINAL-URL:https://www.halterner-tc.de
X-WR-CALDESC:Veranstaltungen für Halterner TC
REFRESH-INTERVAL;VALUE=DURATION:PT1H
X-Robots-Tag:noindex
X-PUBLISHED-TTL:PT1H
BEGIN:VTIMEZONE
TZID:Europe/Berlin
BEGIN:DAYLIGHT
TZOFFSETFROM:+0100
TZOFFSETTO:+0200
TZNAME:CEST
DTSTART:20240331T010000
END:DAYLIGHT
BEGIN:STANDARD
TZOFFSETFROM:+0200
TZOFFSETTO:+0100
TZNAME:CET
DTSTART:20241027T010000
END:STANDARD
BEGIN:DAYLIGHT
TZOFFSETFROM:+0100
TZOFFSETTO:+0200
TZNAME:CEST
DTSTART:20250330T010000
END:DAYLIGHT
BEGIN:STANDARD
TZOFFSETFROM:+0200
TZOFFSETTO:+0100
TZNAME:CET
DTSTART:20251026T010000
END:STANDARD
BEGIN:DAYLIGHT
TZOFFSETFROM:+0100
TZOFFSETTO:+0200
TZNAME:CEST
DTSTART:20260329T010000
END:DAYLIGHT
BEGIN:STANDARD
TZOFFSETFROM:+0200
TZOFFSETTO:+0100
TZNAME:CET
DTSTART:20261025T010000
END:STANDARD
BEGIN:DAYLIGHT
TZOFFSETFROM:+0100
TZOFFSETTO:+0200
TZNAME:CEST
DTSTART:20270328T010000
END:DAYLIGHT
BEGIN:STANDARD
TZOFFSETFROM:+0200
TZOFFSETTO:+0100
TZNAME:CET
DTSTART:20271031T010000
END:STANDARD
END:VTIMEZONE
BEGIN:VEVENT
DTSTART;TZID=Europe/Berlin:20260417T190000
DTEND;TZID=Europe/Berlin:20260417T210000
DTSTAMP:20260425T124030
CREATED:20260330T142119Z
LAST-MODIFIED:20260330T154156Z
UID:7035-1776452400-1776459600@www.halterner-tc.de
SUMMARY:Mitgliederversammlung 2026
DESCRIPTION:Sehr geehrte HTC-Mitglieder\, \nhiermit laden wir zur diesjährigen Mitgliederversammlung des Halterner Tennis-Clubs am Freitag\, 17. April 2026 um 19.00 Uhr im HTC-Clubheim (Blumenstr. 185\, 45721 Haltern am See) herzlich ein. \nTAGESORDNUNG \n\nBegrüßung und Eröffnung\nGedenken der Verstorbenen\nGenehmigung des Protokolls der letzten Mitgliederversammlung\nEhrung langjähriger Mitglieder\nJahresbericht des 1. Vorsitzenden mit Aussprache\nBericht der Sportwarte mit Aussprache\nBericht der Jugendwarte mit Aussprache\nBericht des Geschäftsführers mit Aussprache\nBericht der Kassenprüfer\nEntlastung des Vorstandes\nWahl des 2. Kassenprüfers\nSchnupper- und Zweitmitgliedschaft\nBeteiligung an Arbeitseinsätzen / Sonderbeitrag bei Nichtteilnahme\nVerschiedenes\nWünsche und Anträge\n\nDie Mitgliederversammlung ist gem. §11 der Vereinssatzung in jedem Fall beschlussfähig. Entsprechend des §11  der Vereinssatzung können Anträge zur Tagesordnung mündlich in der Versammlung gestellt werden. Anträge\, die keinen Gegenstand der Tagesordnung betreffen\, können zurückgewiesen werden\, wenn sie nicht sieben Tage vor der Mitgliederversammlung dem 1. Vorsitzenden schriftlich zugegangen sind. \nSportliche Grüße\nEuer HTC-Vorstand
URL:https://www.halterner-tc.de/event/mitgliederversammlung-2026/
LOCATION:Halterner TC\, Blumenstraße 185\, Haltern am See\, 45721\, Germany
END:VEVENT
BEGIN:VEVENT
DTSTART;TZID=Europe/Berlin:20260412T110000
DTEND;TZID=Europe/Berlin:20260412T120000
DTSTAMP:20260425T124030
CREATED:20260330T142400Z
LAST-MODIFIED:20260330T154134Z
UID:7038-1775991600-1775995200@www.halterner-tc.de
SUMMARY:Jugendversammlung 2026
DESCRIPTION:
URL:https://www.halterner-tc.de/event/jugendversammlung-2026/
LOCATION:Halterner TC\, Blumenstraße 185\, Haltern am See\, 45721\, Germany
END:VEVENT
BEGIN:VEVENT
DTSTART;TZID=Europe/Berlin:20250629T100000
DTEND;TZID=Europe/Berlin:20250629T150000
DTSTAMP:20260425T124030
CREATED:20250601T160117Z
LAST-MODIFIED:20250601T160117Z
UID:6795-1751191200-1751209200@www.halterner-tc.de
SUMMARY:M50BL : HTC 1 – TC St. Mauritz 1
DESCRIPTION:
URL:https://www.halterner-tc.de/event/m50bl-htc-1-tc-st-mauritz-1/
LOCATION:Halterner TC\, Blumenstraße 185\, Haltern am See\, 45721\, Germany
END:VEVENT
BEGIN:VEVENT
DTSTART;TZID=Europe/Berlin:20250620T160000
DTEND;TZID=Europe/Berlin:20250620T190000
DTSTAMP:20260425T124030
CREATED:20250601T160006Z
LAST-MODIFIED:20250601T160006Z
UID:6793-1750435200-1750446000@www.halterner-tc.de
SUMMARY:W15KL : HTC 1 – MTA Tennis-Club Dorsten 1
DESCRIPTION:
URL:https://www.halterner-tc.de/event/w15kl-htc-1-mta-tennis-club-dorsten-1/
LOCATION:Halterner TC\, Blumenstraße 185\, Haltern am See\, 45721\, Germany
END:VEVENT
BEGIN:VEVENT
DTSTART;TZID=Europe/Berlin:20250615T100000
DTEND;TZID=Europe/Berlin:20250615T160000
DTSTAMP:20260425T124030
CREATED:20250601T155841Z
LAST-MODIFIED:20250601T155841Z
UID:6791-1749981600-1750003200@www.halterner-tc.de
SUMMARY:M60MSL : HTC 1 – TCT Rheine 1
DESCRIPTION:
URL:https://www.halterner-tc.de/event/m60msl-htc-1-tct-rheine-1/
LOCATION:Halterner TC\, Blumenstraße 185\, Haltern am See\, 45721\, Germany
END:VEVENT
BEGIN:VEVENT
DTSTART;TZID=Europe/Berlin:20250615T100000
DTEND;TZID=Europe/Berlin:20250615T160000
DTSTAMP:20260425T124030
CREATED:20250601T155724Z
LAST-MODIFIED:20250601T155724Z
UID:6789-1749981600-1750003200@www.halterner-tc.de
SUMMARY:M50BL : HTC 1 – TSV Wstf. 06 Westerkappeln 1
DESCRIPTION:
URL:https://www.halterner-tc.de/event/m50bl-htc-1-tsv-wstf-06-westerkappeln-1/
LOCATION:Halterner TC\, Blumenstraße 185\, Haltern am See\, 45721\, Germany
END:VEVENT
BEGIN:VEVENT
DTSTART;TZID=Europe/Berlin:20250614T130000
DTEND;TZID=Europe/Berlin:20250614T180000
DTSTAMP:20260425T124030
CREATED:20250601T155528Z
LAST-MODIFIED:20250601T155528Z
UID:6787-1749906000-1749924000@www.halterner-tc.de
SUMMARY:M40MSL : HTC 1 – TC St. Mauritz 1
DESCRIPTION:
URL:https://www.halterner-tc.de/event/m40msl-htc-1-tc-st-mauritz-1/
LOCATION:Halterner TC\, Blumenstraße 185\, Haltern am See\, 45721\, Germany
END:VEVENT
BEGIN:VEVENT
DTSTART;TZID=Europe/Berlin:20250614T130000
DTEND;TZID=Europe/Berlin:20250614T180000
DTSTAMP:20260425T124030
CREATED:20250601T155415Z
LAST-MODIFIED:20250601T155415Z
UID:6785-1749906000-1749924000@www.halterner-tc.de
SUMMARY:M04KK3 : HTC 2 – TuS Gahlen 1
DESCRIPTION:
URL:https://www.halterner-tc.de/event/m04kk3-htc-2-tus-gahlen-1/
LOCATION:Halterner TC\, Blumenstraße 185\, Haltern am See\, 45721\, Germany
END:VEVENT
BEGIN:VEVENT
DTSTART;TZID=Europe/Berlin:20250614T130000
DTEND;TZID=Europe/Berlin:20250614T180000
DTSTAMP:20260425T124030
CREATED:20250601T155230Z
LAST-MODIFIED:20250601T155230Z
UID:6783-1749906000-1749924000@www.halterner-tc.de
SUMMARY:W34KK1 : HTC 1 – TC Havixbeck 1
DESCRIPTION:
URL:https://www.halterner-tc.de/event/w34kk1-htc-1-tc-havixbeck-1/
LOCATION:Halterner TC\, Blumenstraße 185\, Haltern am See\, 45721\, Germany
END:VEVENT
BEGIN:VEVENT
DTSTART;TZID=Europe/Berlin:20250611T110000
DTEND;TZID=Europe/Berlin:20250611T170000
DTSTAMP:20260425T124030
CREATED:20250601T155038Z
LAST-MODIFIED:20250601T155038Z
UID:6781-1749639600-1749661200@www.halterner-tc.de
SUMMARY:M65VL : HTC 1 – TuS AdH Weidenau 1
DESCRIPTION:
URL:https://www.halterner-tc.de/event/m65vl-htc-1-tus-adh-weidenau-1/
LOCATION:Halterner TC\, Blumenstraße 185\, Haltern am See\, 45721\, Germany
END:VEVENT
BEGIN:VEVENT
DTSTART;TZID=Europe/Berlin:20250609T100000
DTEND;TZID=Europe/Berlin:20250609T180000
DTSTAMP:20260425T124030
CREATED:20250601T152733Z
LAST-MODIFIED:20250601T152733Z
UID:6759-1749463200-1749492000@www.halterner-tc.de
SUMMARY:Mixed-Turnier
DESCRIPTION:Turniermodus:\n\n \n\n 	Gruppenspiele (langer Satz bis 9)\, ggfs. mit Halbfinale und Endspiel\n\n \n\nDie Startgebühr beträgt 5 Euro pro Person\, eine Anmeldeliste wird kurzfristig am HTC ausgehängt.\n\n \n\nMeldeschluss: Freitag\, 06. Juni\, um 18.00 Uhr\n\n \n\nWeitere Infos: Marcus Schriewer\, Mobil: 0163-7292213
URL:https://www.halterner-tc.de/event/mixed-turnier/
LOCATION:Halterner TC\, Blumenstraße 185\, Haltern am See\, 45721\, Germany
END:VEVENT
BEGIN:VEVENT
DTSTART;TZID=Europe/Berlin:20250604T110000
DTEND;TZID=Europe/Berlin:20250604T170000
DTSTAMP:20260425T124030
CREATED:20250601T154920Z
LAST-MODIFIED:20250601T154920Z
UID:6779-1749034800-1749056400@www.halterner-tc.de
SUMMARY:M65VL : HTC 1 – FC Stella Bevergern 1
DESCRIPTION:
URL:https://www.halterner-tc.de/event/m65vl-htc-1-fc-stella-bevergern-1/
LOCATION:Halterner TC\, Blumenstraße 185\, Haltern am See\, 45721\, Germany
END:VEVENT
BEGIN:VEVENT
DTSTART;TZID=Europe/Berlin:20250530T160000
DTEND;TZID=Europe/Berlin:20250530T190000
DTSTAMP:20260425T124030
CREATED:20250601T154737Z
LAST-MODIFIED:20250601T154737Z
UID:6777-1748620800-1748631600@www.halterner-tc.de
SUMMARY:M52KK1	 : HTC 1 – TC Deuten 1
DESCRIPTION:
URL:https://www.halterner-tc.de/event/m52kk1-htc-1-tc-deuten-1/
LOCATION:Halterner TC\, Blumenstraße 185\, Haltern am See\, 45721\, Germany
END:VEVENT
BEGIN:VEVENT
DTSTART;TZID=Europe/Berlin:20250525T100000
DTEND;TZID=Europe/Berlin:20250525T150000
DTSTAMP:20260425T124030
CREATED:20250601T154551Z
LAST-MODIFIED:20250601T154551Z
UID:6775-1748167200-1748185200@www.halterner-tc.de
SUMMARY:M40MSL	 : HTC 1 – DJK SF Dülmen 1
DESCRIPTION:
URL:https://www.halterner-tc.de/event/m40msl-htc-1-djk-sf-duelmen-1/
LOCATION:Halterner TC\, Blumenstraße 185\, Haltern am See\, 45721\, Germany
END:VEVENT
BEGIN:VEVENT
DTSTART;TZID=Europe/Berlin:20250525T100000
DTEND;TZID=Europe/Berlin:20250525T150000
DTSTAMP:20260425T124030
CREATED:20250601T154422Z
LAST-MODIFIED:20250601T154422Z
UID:6773-1748167200-1748185200@www.halterner-tc.de
SUMMARY:M04KK3 : HTC 2 – Dorstener TC 1
DESCRIPTION:
URL:https://www.halterner-tc.de/event/m04kk3-htc-2-dorstener-tc-1/
LOCATION:Halterner TC\, Blumenstraße 185\, Haltern am See\, 45721\, Germany
END:VEVENT
BEGIN:VEVENT
DTSTART;TZID=Europe/Berlin:20250521T150000
DTEND;TZID=Europe/Berlin:20250521T180000
DTSTAMP:20260425T124030
CREATED:20250601T154247Z
LAST-MODIFIED:20250601T154247Z
UID:6771-1747839600-1747850400@www.halterner-tc.de
SUMMARY:HRDDO : HTC 1 – SV DJK Vorwärts Lette 1
DESCRIPTION:
URL:https://www.halterner-tc.de/event/hrddo-htc-1-sv-djk-vorwaerts-lette-1/
LOCATION:Halterner TC\, Blumenstraße 185\, Haltern am See\, 45721\, Germany
END:VEVENT
BEGIN:VEVENT
DTSTART;TZID=Europe/Berlin:20250520T160000
DTEND;TZID=Europe/Berlin:20250520T190000
DTSTAMP:20260425T124030
CREATED:20250601T154014Z
LAST-MODIFIED:20250601T154014Z
UID:6769-1747756800-1747767600@www.halterner-tc.de
SUMMARY:M22KK1 : HTC 1 – TV Blau-Weiß Stadtlohn 1
DESCRIPTION:
URL:https://www.halterner-tc.de/event/m22kk1-htc-1-tv-blau-weiss-stadtlohn-1/
LOCATION:Halterner TC\, Blumenstraße 185\, Haltern am See\, 45721\, Germany
END:VEVENT
BEGIN:VEVENT
DTSTART;TZID=Europe/Berlin:20250518T100000
DTEND;TZID=Europe/Berlin:20250518T150000
DTSTAMP:20260425T124030
CREATED:20250601T153706Z
LAST-MODIFIED:20250601T154050Z
UID:6767-1747562400-1747580400@www.halterner-tc.de
SUMMARY:M60MSL : HTC 1 – SV Westfalia Gemen 1
DESCRIPTION:
URL:https://www.halterner-tc.de/event/m60msl-htc-1-sv-westfalia-gemen-1/
LOCATION:Halterner TC\, Blumenstraße 185\, Haltern am See\, 45721\, Germany
END:VEVENT
BEGIN:VEVENT
DTSTART;TZID=Europe/Berlin:20250518T100000
DTEND;TZID=Europe/Berlin:20250518T150000
DTSTAMP:20260425T124030
CREATED:20250601T153549Z
LAST-MODIFIED:20250601T153549Z
UID:6765-1747562400-1747580400@www.halterner-tc.de
SUMMARY:W44BL : HTC 1 – TC Blau-Gold Lüdinghausen 2
DESCRIPTION:
URL:https://www.halterner-tc.de/event/w44bl-htc-1-tc-blau-gold-luedinghausen-2/
LOCATION:Halterner TC\, Blumenstraße 185\, Haltern am See\, 45721\, Germany
END:VEVENT
BEGIN:VEVENT
DTSTART;TZID=Europe/Berlin:20250517T130000
DTEND;TZID=Europe/Berlin:20250517T180000
DTSTAMP:20260425T124030
CREATED:20250601T153358Z
LAST-MODIFIED:20250601T153358Z
UID:6763-1747486800-1747504800@www.halterner-tc.de
SUMMARY:M55BK : HTC 1 – DJK Wacker Mecklenbeck 1
DESCRIPTION:
URL:https://www.halterner-tc.de/event/m55bk-htc-1-djk-wacker-mecklenbeck-1/
LOCATION:Halterner TC\, Blumenstraße 185\, Haltern am See\, 45721\, Germany
END:VEVENT
BEGIN:VEVENT
DTSTART;TZID=Europe/Berlin:20250517T130000
DTEND;TZID=Europe/Berlin:20250517T180000
DTSTAMP:20260425T124030
CREATED:20250601T153211Z
LAST-MODIFIED:20250601T153211Z
UID:6761-1747486800-1747504800@www.halterner-tc.de
SUMMARY:M04KK1 : HTC 1 – SV Westfalia Gemen 2
DESCRIPTION:
URL:https://www.halterner-tc.de/event/m04kk1-htc-1-sv-westfalia-gemen-2/
LOCATION:Halterner TC\, Blumenstraße 185\, Haltern am See\, 45721\, Germany
END:VEVENT
BEGIN:VEVENT
DTSTART;TZID=Europe/Berlin:20250516T160000
DTEND;TZID=Europe/Berlin:20250516T200000
DTSTAMP:20260425T124030
CREATED:20250323T175549Z
LAST-MODIFIED:20250323T175549Z
UID:6544-1747411200-1747425600@www.halterner-tc.de
SUMMARY:M82KL : HTC 1 - Lengericher TC 1
DESCRIPTION:
URL:https://www.halterner-tc.de/event/m82kl-htc-1-lengericher-tc-1/
LOCATION:Halterner TC\, Blumenstraße 185\, Haltern am See\, 45721\, Germany
END:VEVENT
BEGIN:VEVENT
DTSTART;TZID=Europe/Berlin:20250514T110000
DTEND;TZID=Europe/Berlin:20250514T160000
DTSTAMP:20260425T124030
CREATED:20250323T175423Z
LAST-MODIFIED:20250323T175423Z
UID:6542-1747220400-1747238400@www.halterner-tc.de
SUMMARY:M65VL : HTC 1 - TC Halden 2000 1
DESCRIPTION:
URL:https://www.halterner-tc.de/event/m65vl-htc-1-tc-halden-2000-1/
LOCATION:Halterner TC\, Blumenstraße 185\, Haltern am See\, 45721\, Germany
END:VEVENT
BEGIN:VEVENT
DTSTART;TZID=Europe/Berlin:20250513T160000
DTEND;TZID=Europe/Berlin:20250513T200000
DTSTAMP:20260425T124030
CREATED:20250323T175258Z
LAST-MODIFIED:20250323T175258Z
UID:6540-1747152000-1747166400@www.halterner-tc.de
SUMMARY:M22KK1 : HTC 1 - DJK-VFL Billerbeck 2
DESCRIPTION:
URL:https://www.halterner-tc.de/event/m22kk1-htc-1-djk-vfl-billerbeck-2/
LOCATION:Halterner TC\, Blumenstraße 185\, Haltern am See\, 45721\, Germany
END:VEVENT
BEGIN:VEVENT
DTSTART;TZID=Europe/Berlin:20250511T100000
DTEND;TZID=Europe/Berlin:20250511T150000
DTSTAMP:20260425T124030
CREATED:20250323T173714Z
LAST-MODIFIED:20250323T173714Z
UID:6538-1746957600-1746975600@www.halterner-tc.de
SUMMARY:M40MSL : HTC 1 - TG Datteln 1
DESCRIPTION:
URL:https://www.halterner-tc.de/event/m40msl-htc-1-tg-datteln-1/
END:VEVENT
BEGIN:VEVENT
DTSTART;TZID=Europe/Berlin:20250511T100000
DTEND;TZID=Europe/Berlin:20250511T150000
DTSTAMP:20260425T124030
CREATED:20250323T173524Z
LAST-MODIFIED:20250323T173558Z
UID:6536-1746957600-1746975600@www.halterner-tc.de
SUMMARY:W34KK1 : HTC 1 - TC Reken 1
DESCRIPTION:
URL:https://www.halterner-tc.de/event/w34kk1-htc-1-tc-reken-1/
END:VEVENT
BEGIN:VEVENT
DTSTART;TZID=Europe/Berlin:20250510T130000
DTEND;TZID=Europe/Berlin:20250510T180000
DTSTAMP:20260425T124030
CREATED:20250323T173401Z
LAST-MODIFIED:20250323T173401Z
UID:6534-1746882000-1746900000@www.halterner-tc.de
SUMMARY:M50BL : HTC 1 - TC Blau-Gold Lüdinghausen 1
DESCRIPTION:
URL:https://www.halterner-tc.de/event/m50bl-htc-1-tc-blau-gold-luedinghausen-1/
LOCATION:Halterner TC\, Blumenstraße 185\, Haltern am See\, 45721\, Germany
END:VEVENT
BEGIN:VEVENT
DTSTART;TZID=Europe/Berlin:20250510T130000
DTEND;TZID=Europe/Berlin:20250510T180000
DTSTAMP:20260425T124030
CREATED:20250323T173150Z
LAST-MODIFIED:20250323T173150Z
UID:6532-1746882000-1746900000@www.halterner-tc.de
SUMMARY:M30KK1 : HTC 1 - Hünenburger TC 4
DESCRIPTION:
URL:https://www.halterner-tc.de/event/m30kk1-htc-1-huenenburger-tc-4/
LOCATION:Halterner TC\, Blumenstraße 185\, Haltern am See\, 45721\, Germany
END:VEVENT
BEGIN:VEVENT
DTSTART;TZID=Europe/Berlin:20250510T130000
DTEND;TZID=Europe/Berlin:20250510T180000
DTSTAMP:20260425T124030
CREATED:20250323T173041Z
LAST-MODIFIED:20250323T173222Z
UID:6530-1746882000-1746900000@www.halterner-tc.de
SUMMARY:W44BL : HTC 1 - SV Herbern 1
DESCRIPTION:
URL:https://www.halterner-tc.de/event/w44bl-htc-1-sv-herbern-1/
LOCATION:Halterner TC\, Blumenstraße 185\, Haltern am See\, 45721\, Germany
END:VEVENT
BEGIN:VEVENT
DTSTART;TZID=Europe/Berlin:20250507T150000
DTEND;TZID=Europe/Berlin:20250507T190000
DTSTAMP:20260425T124030
CREATED:20250323T170049Z
LAST-MODIFIED:20250323T170230Z
UID:6513-1746630000-1746644400@www.halterner-tc.de
SUMMARY:HRDDO : HTC 1 - SC DJK Everswinkel 1
DESCRIPTION:
URL:https://www.halterner-tc.de/event/hrddo-htc-1-sc-djk-everswinkel-1/
LOCATION:Halterner TC\, Blumenstraße 185\, Haltern am See\, 45721\, Germany
END:VEVENT
END:VCALENDAR