BEGIN:VCALENDAR
VERSION:2.0
PRODID:-//Halterner TC - ECPv6.15.20//NONSGML v1.0//EN
CALSCALE:GREGORIAN
METHOD:PUBLISH
X-ORIGINAL-URL:https://www.halterner-tc.de
X-WR-CALDESC:Veranstaltungen für Halterner TC
REFRESH-INTERVAL;VALUE=DURATION:PT1H
X-Robots-Tag:noindex
X-PUBLISHED-TTL:PT1H
BEGIN:VTIMEZONE
TZID:Europe/Berlin
BEGIN:DAYLIGHT
TZOFFSETFROM:+0100
TZOFFSETTO:+0200
TZNAME:CEST
DTSTART:20250330T010000
END:DAYLIGHT
BEGIN:STANDARD
TZOFFSETFROM:+0200
TZOFFSETTO:+0100
TZNAME:CET
DTSTART:20251026T010000
END:STANDARD
BEGIN:DAYLIGHT
TZOFFSETFROM:+0100
TZOFFSETTO:+0200
TZNAME:CEST
DTSTART:20260329T010000
END:DAYLIGHT
BEGIN:STANDARD
TZOFFSETFROM:+0200
TZOFFSETTO:+0100
TZNAME:CET
DTSTART:20261025T010000
END:STANDARD
BEGIN:DAYLIGHT
TZOFFSETFROM:+0100
TZOFFSETTO:+0200
TZNAME:CEST
DTSTART:20270328T010000
END:DAYLIGHT
BEGIN:STANDARD
TZOFFSETFROM:+0200
TZOFFSETTO:+0100
TZNAME:CET
DTSTART:20271031T010000
END:STANDARD
END:VTIMEZONE
BEGIN:VEVENT
DTSTART;TZID=Europe/Berlin:20260711T130000
DTEND;TZID=Europe/Berlin:20260711T173000
DTSTAMP:20260425T150642
CREATED:20260331T075445Z
LAST-MODIFIED:20260331T075445Z
UID:7112-1783774800-1783791000@www.halterner-tc.de
SUMMARY:M50KK1 : HTC 2 - TV Feldmark Dorsten 1
DESCRIPTION:
URL:https://www.halterner-tc.de/event/m50kk1-htc-2-tv-feldmark-dorsten-1/
LOCATION:Halterner TC\, Blumenstraße 185\, Haltern am See\, 45721\, Germany
END:VEVENT
BEGIN:VEVENT
DTSTART;TZID=Europe/Berlin:20260712T100000
DTEND;TZID=Europe/Berlin:20260712T143000
DTSTAMP:20260425T150642
CREATED:20260331T075552Z
LAST-MODIFIED:20260331T075552Z
UID:7114-1783850400-1783866600@www.halterner-tc.de
SUMMARY:W34KL : HTC 1 - DJK SF Dülmen 1
DESCRIPTION:
URL:https://www.halterner-tc.de/event/w34kl-htc-1-djk-sf-duelmen-1/
LOCATION:Halterner TC\, Blumenstraße 185\, Haltern am See\, 45721\, Germany
END:VEVENT
BEGIN:VEVENT
DTSTART;TZID=Europe/Berlin:20260712T100000
DTEND;TZID=Europe/Berlin:20260712T143000
DTSTAMP:20260425T150642
CREATED:20260331T075647Z
LAST-MODIFIED:20260331T075647Z
UID:7116-1783850400-1783866600@www.halterner-tc.de
SUMMARY:M40MSL : HTC 1 - DJK SF Dülmen 1
DESCRIPTION:
URL:https://www.halterner-tc.de/event/m40msl-htc-1-djk-sf-duelmen-1-2/
LOCATION:Halterner TC\, Blumenstraße 185\, Haltern am See\, 45721\, Germany
END:VEVENT
BEGIN:VEVENT
DTSTART;TZID=Europe/Berlin:20260712T100000
DTEND;TZID=Europe/Berlin:20260712T143000
DTSTAMP:20260425T150642
CREATED:20260331T075743Z
LAST-MODIFIED:20260331T075743Z
UID:7118-1783850400-1783866600@www.halterner-tc.de
SUMMARY:M55BK : HTC 1 - SV Schwarz-Weiß Lienen 1
DESCRIPTION:
URL:https://www.halterner-tc.de/event/m55bk-htc-1-sv-schwarz-weiss-lienen-1/
LOCATION:Halterner TC\, Blumenstraße 185\, Haltern am See\, 45721\, Germany
END:VEVENT
BEGIN:VEVENT
DTSTART;TZID=Europe/Berlin:20260830T100000
DTEND;TZID=Europe/Berlin:20260830T143000
DTSTAMP:20260425T150642
CREATED:20260331T075846Z
LAST-MODIFIED:20260331T075846Z
UID:7120-1788084000-1788100200@www.halterner-tc.de
SUMMARY:W34KL : HTC 1 - TV Feldmark Dorsten 2
DESCRIPTION:
URL:https://www.halterner-tc.de/event/w34kl-htc-1-tv-feldmark-dorsten-2/
LOCATION:Halterner TC\, Blumenstraße 185\, Haltern am See\, 45721\, Germany
END:VEVENT
BEGIN:VEVENT
DTSTART;TZID=Europe/Berlin:20260905T130000
DTEND;TZID=Europe/Berlin:20260905T173000
DTSTAMP:20260425T150642
CREATED:20260331T075943Z
LAST-MODIFIED:20260331T075943Z
UID:7122-1788613200-1788629400@www.halterner-tc.de
SUMMARY:M00KL : HTC 1 - TC Blau-Gold Lüdinghausen 1
DESCRIPTION:
URL:https://www.halterner-tc.de/event/m00kl-htc-1-tc-blau-gold-luedinghausen-1/
LOCATION:Halterner TC\, Blumenstraße 185\, Haltern am See\, 45721\, Germany
END:VEVENT
BEGIN:VEVENT
DTSTART;TZID=Europe/Berlin:20260906T100000
DTEND;TZID=Europe/Berlin:20260906T143000
DTSTAMP:20260425T150642
CREATED:20260331T080030Z
LAST-MODIFIED:20260331T080030Z
UID:7124-1788688800-1788705000@www.halterner-tc.de
SUMMARY:M50KK1 : HTC 2 - TC Altschermbeck 2
DESCRIPTION:
URL:https://www.halterner-tc.de/event/m50kk1-htc-2-tc-altschermbeck-2/
LOCATION:Halterner TC\, Blumenstraße 185\, Haltern am See\, 45721\, Germany
END:VEVENT
BEGIN:VEVENT
DTSTART;TZID=Europe/Berlin:20260906T100000
DTEND;TZID=Europe/Berlin:20260906T143000
DTSTAMP:20260425T150642
CREATED:20260331T080139Z
LAST-MODIFIED:20260331T080139Z
UID:7126-1788688800-1788705000@www.halterner-tc.de
SUMMARY:M30KK2 : HTC 1 - SG Coesfeld 06 1
DESCRIPTION:
URL:https://www.halterner-tc.de/event/m30kk2-htc-1-sg-coesfeld-06-1/
LOCATION:Halterner TC\, Blumenstraße 185\, Haltern am See\, 45721\, Germany
END:VEVENT
END:VCALENDAR